BEGIN:VCALENDAR
VERSION:2.0
METHOD:PUBLISH
PRODID:- PBCS IT-News //NONSGML Events //EN
CALSCALE:GREGORIAN
X-WR-CALNAME:ICAL-BLOG
BEGIN:VEVENT
UID:8b74dd89-481f-4b2f-8666-e0fc3c499ea1
DTSTAMP:20260419T131122Z
CREATED:20260419T131122Z
SUMMARY:Quizfrage 7982
DESCRIPTION:https://wp.pbcs.de/question/quizfrage-7982/ - Artikel vom: Sa.\, 1. November 2025\, 12:57:15 - Welche Achsen hat eine typische Risikomatrix?
LOCATION:https://wp.pbcs.de
CATEGORIES:Gelbe Kategorie
TRANSP:TRANSPARENT
X-MICROSOFT-CDO-BUSYSTATUS:FREE
SEQUENCE:0
CLASS:PUBLIC
PRIORITY:1
DTSTART:20260416T070000Z
DTEND:20260416T080000Z
BEGIN:VALARM
TRIGGER:-PT30M
ACTION:DISPLAY
DESCRIPTION:Reminder for Quizfrage 7982
END:VALARM
END:VEVENT
END:VCALENDAR
