BEGIN:VCALENDAR
VERSION:2.0
METHOD:PUBLISH
PRODID:- PBCS IT-News //NONSGML Events //EN
CALSCALE:GREGORIAN
X-WR-CALNAME:ICAL-BLOG
BEGIN:VEVENT
UID:1a4a1015-080f-4b72-a38f-7fdf7ae20731
DTSTAMP:20260419T161929Z
CREATED:20260419T161929Z
SUMMARY:Quizfrage 7929
DESCRIPTION:https://wp.pbcs.de/question/quizfrage-7929/ - Artikel vom: Mo.\, 27. Oktober 2025\, 17:18:36 - Woran erkennt man eine sichere Webseite?
LOCATION:https://wp.pbcs.de
CATEGORIES:Gelbe Kategorie
TRANSP:TRANSPARENT
X-MICROSOFT-CDO-BUSYSTATUS:FREE
SEQUENCE:0
CLASS:PUBLIC
PRIORITY:1
DTSTART:20260420T070000Z
DTEND:20260420T080000Z
BEGIN:VALARM
TRIGGER:-PT30M
ACTION:DISPLAY
DESCRIPTION:Reminder for Quizfrage 7929
END:VALARM
END:VEVENT
END:VCALENDAR
