BEGIN:VCALENDAR
VERSION:2.0
METHOD:PUBLISH
PRODID:- PBCS IT-News //NONSGML Events //EN
CALSCALE:GREGORIAN
X-WR-CALNAME:ICAL-BLOG
BEGIN:VEVENT
UID:7f675717-8de9-475e-aa3e-3830c98f0c8d
DTSTAMP:20260421T110958Z
CREATED:20260421T110958Z
SUMMARY:Quizfrage 7899
DESCRIPTION:https://wp.pbcs.de/question/quizfrage-7899/ - Artikel vom: Mo.\, 27. Oktober 2025\, 17:18:34 - Was ist ein sicheres Verhalten im Homeoffice?
LOCATION:https://wp.pbcs.de
CATEGORIES:Gelbe Kategorie
TRANSP:TRANSPARENT
X-MICROSOFT-CDO-BUSYSTATUS:FREE
SEQUENCE:0
CLASS:PUBLIC
PRIORITY:1
DTSTART:20260415T070000Z
DTEND:20260415T080000Z
BEGIN:VALARM
TRIGGER:-PT30M
ACTION:DISPLAY
DESCRIPTION:Reminder for Quizfrage 7899
END:VALARM
END:VEVENT
END:VCALENDAR
