BEGIN:VCALENDAR
VERSION:2.0
METHOD:PUBLISH
PRODID:- PBCS IT-News //NONSGML Events //EN
CALSCALE:GREGORIAN
X-WR-CALNAME:ICAL-BLOG
BEGIN:VEVENT
UID:33b89463-c8a8-48e6-af0e-0e83292551c8
DTSTAMP:20260419T164012Z
CREATED:20260419T164012Z
SUMMARY:Quizfrage 7870
DESCRIPTION:https://wp.pbcs.de/question/quizfrage-7870/ - Artikel vom: Mo.\, 27. Oktober 2025\, 17:18:31 - Was ist der Zweck eines VPN (Virtual Private Network) bei der Arbeit von unterwegs?
LOCATION:https://wp.pbcs.de
CATEGORIES:Gelbe Kategorie
TRANSP:TRANSPARENT
X-MICROSOFT-CDO-BUSYSTATUS:FREE
SEQUENCE:0
CLASS:PUBLIC
PRIORITY:1
DTSTART:20260416T070000Z
DTEND:20260416T080000Z
BEGIN:VALARM
TRIGGER:-PT30M
ACTION:DISPLAY
DESCRIPTION:Reminder for Quizfrage 7870
END:VALARM
END:VEVENT
END:VCALENDAR
