BEGIN:VCALENDAR
VERSION:2.0
METHOD:PUBLISH
PRODID:- PBCS IT-News //NONSGML Events //EN
CALSCALE:GREGORIAN
X-WR-CALNAME:ICAL-BLOG
BEGIN:VEVENT
UID:81440806-c09c-42b3-a98f-e1cf0519c292
DTSTAMP:20260424T063823Z
CREATED:20260424T063823Z
SUMMARY:Quizfrage 7785
DESCRIPTION:https://wp.pbcs.de/question/quizfrage-7785/ - Artikel vom: Fr.\, 17. Oktober 2025\, 23:26:59 - Wie hält man Brot länger frisch?
LOCATION:https://wp.pbcs.de
CATEGORIES:Gelbe Kategorie
TRANSP:TRANSPARENT
X-MICROSOFT-CDO-BUSYSTATUS:FREE
SEQUENCE:0
CLASS:PUBLIC
PRIORITY:1
DTSTART:20260424T070000Z
DTEND:20260424T080000Z
BEGIN:VALARM
TRIGGER:-PT30M
ACTION:DISPLAY
DESCRIPTION:Reminder for Quizfrage 7785
END:VALARM
END:VEVENT
END:VCALENDAR
