BEGIN:VCALENDAR
VERSION:2.0
METHOD:PUBLISH
PRODID:- PBCS IT-News //NONSGML Events //EN
CALSCALE:GREGORIAN
X-WR-CALNAME:ICAL-BLOG
BEGIN:VEVENT
UID:99522314-4f71-4b65-b483-1f91e57ee796
DTSTAMP:20260424T201634Z
CREATED:20260424T201634Z
SUMMARY:Quizfrage 7368
DESCRIPTION:https://wp.pbcs.de/question/quizfrage-7368/ - Artikel vom: Fr.\, 10. Oktober 2025\, 19:21:55 - Wie nennt man einen faulen Hund?
LOCATION:https://wp.pbcs.de
CATEGORIES:Gelbe Kategorie
TRANSP:TRANSPARENT
X-MICROSOFT-CDO-BUSYSTATUS:FREE
SEQUENCE:0
CLASS:PUBLIC
PRIORITY:1
DTSTART:20260425T070000Z
DTEND:20260425T080000Z
BEGIN:VALARM
TRIGGER:-PT30M
ACTION:DISPLAY
DESCRIPTION:Reminder for Quizfrage 7368
END:VALARM
END:VEVENT
END:VCALENDAR
