BEGIN:VCALENDAR
VERSION:2.0
METHOD:PUBLISH
PRODID:- PBCS IT-News //NONSGML Events //EN
CALSCALE:GREGORIAN
X-WR-CALNAME:ICAL-BLOG
BEGIN:VEVENT
UID:f0eadd06-4bf3-4ad1-b226-22b741a6dae9
DTSTAMP:20260424T235809Z
CREATED:20260424T235809Z
SUMMARY:Quizfrage 7315
DESCRIPTION:https://wp.pbcs.de/question/quizfrage-7315/ - Artikel vom: Mo.\, 29. September 2025\, 19:11:44 - Aus welchem deutschen Comic stammt die Figur oder Serie Siggi und Babarras?
LOCATION:https://wp.pbcs.de
CATEGORIES:Gelbe Kategorie
TRANSP:TRANSPARENT
X-MICROSOFT-CDO-BUSYSTATUS:FREE
SEQUENCE:0
CLASS:PUBLIC
PRIORITY:1
DTSTART:20260425T070000Z
DTEND:20260425T080000Z
BEGIN:VALARM
TRIGGER:-PT30M
ACTION:DISPLAY
DESCRIPTION:Reminder for Quizfrage 7315
END:VALARM
END:VEVENT
END:VCALENDAR
