BEGIN:VCALENDAR
VERSION:2.0
METHOD:PUBLISH
PRODID:- PBCS IT-News //NONSGML Events //EN
CALSCALE:GREGORIAN
X-WR-CALNAME:ICAL-BLOG
BEGIN:VEVENT
UID:f6f59edd-71e0-41df-81b7-d8ea720bc795
DTSTAMP:20260423T165014Z
CREATED:20260423T165014Z
SUMMARY:Quizfrage 7302
DESCRIPTION:https://wp.pbcs.de/question/quizfrage-7302/ - Artikel vom: Mo.\, 29. September 2025\, 19:11:43 - Aus welchem deutschen Comic stammt die Figur oder Serie Prinzessin Insomnia?
LOCATION:https://wp.pbcs.de
CATEGORIES:Gelbe Kategorie
TRANSP:TRANSPARENT
X-MICROSOFT-CDO-BUSYSTATUS:FREE
SEQUENCE:0
CLASS:PUBLIC
PRIORITY:1
DTSTART:20260424T070000Z
DTEND:20260424T080000Z
BEGIN:VALARM
TRIGGER:-PT30M
ACTION:DISPLAY
DESCRIPTION:Reminder for Quizfrage 7302
END:VALARM
END:VEVENT
END:VCALENDAR
