BEGIN:VCALENDAR
VERSION:2.0
METHOD:PUBLISH
PRODID:- PBCS IT-News //NONSGML Events //EN
CALSCALE:GREGORIAN
X-WR-CALNAME:ICAL-BLOG
BEGIN:VEVENT
UID:0effcd4f-5694-46bf-929d-74a6269de267
DTSTAMP:20260420T001503Z
CREATED:20260420T001503Z
SUMMARY:Quizfrage 7300
DESCRIPTION:https://wp.pbcs.de/question/quizfrage-7300/ - Artikel vom: Mo.\, 29. September 2025\, 19:11:43 - Aus welchem deutschen Comic stammt die Figur oder Serie Meister Röhrich?
LOCATION:https://wp.pbcs.de
CATEGORIES:Gelbe Kategorie
TRANSP:TRANSPARENT
X-MICROSOFT-CDO-BUSYSTATUS:FREE
SEQUENCE:0
CLASS:PUBLIC
PRIORITY:1
DTSTART:20260420T070000Z
DTEND:20260420T080000Z
BEGIN:VALARM
TRIGGER:-PT30M
ACTION:DISPLAY
DESCRIPTION:Reminder for Quizfrage 7300
END:VALARM
END:VEVENT
END:VCALENDAR
