BEGIN:VCALENDAR
VERSION:2.0
METHOD:PUBLISH
PRODID:- PBCS IT-News //NONSGML Events //EN
CALSCALE:GREGORIAN
X-WR-CALNAME:ICAL-BLOG
BEGIN:VEVENT
UID:137ed669-18da-44ed-9e33-d9b4d63fe788
DTSTAMP:20260425T014119Z
CREATED:20260425T014119Z
SUMMARY:Quizfrage 7291
DESCRIPTION:https://wp.pbcs.de/question/quizfrage-7291/ - Artikel vom: Mo.\, 29. September 2025\, 19:11:42 - Wer ist der Rivale von Ash Ketchum in der Pokemon Serie?
LOCATION:https://wp.pbcs.de
CATEGORIES:Gelbe Kategorie
TRANSP:TRANSPARENT
X-MICROSOFT-CDO-BUSYSTATUS:FREE
SEQUENCE:0
CLASS:PUBLIC
PRIORITY:1
DTSTART:20260425T070000Z
DTEND:20260425T080000Z
BEGIN:VALARM
TRIGGER:-PT30M
ACTION:DISPLAY
DESCRIPTION:Reminder for Quizfrage 7291
END:VALARM
END:VEVENT
END:VCALENDAR
