BEGIN:VCALENDAR
VERSION:2.0
METHOD:PUBLISH
PRODID:- PBCS IT-News //NONSGML Events //EN
CALSCALE:GREGORIAN
X-WR-CALNAME:ICAL-BLOG
BEGIN:VEVENT
UID:2c7e800c-c19a-47ee-9cb9-de3d57bfb068
DTSTAMP:20260424T064912Z
CREATED:20260424T064912Z
SUMMARY:Quizfrage 7270
DESCRIPTION:https://wp.pbcs.de/question/quizfrage-7270/ - Artikel vom: Mo.\, 29. September 2025\, 19:11:41 - Aus welcher Serie stammt die Figur Alucard?
LOCATION:https://wp.pbcs.de
CATEGORIES:Gelbe Kategorie
TRANSP:TRANSPARENT
X-MICROSOFT-CDO-BUSYSTATUS:FREE
SEQUENCE:0
CLASS:PUBLIC
PRIORITY:1
DTSTART:20260424T070000Z
DTEND:20260424T080000Z
BEGIN:VALARM
TRIGGER:-PT30M
ACTION:DISPLAY
DESCRIPTION:Reminder for Quizfrage 7270
END:VALARM
END:VEVENT
END:VCALENDAR
