BEGIN:VCALENDAR
VERSION:2.0
METHOD:PUBLISH
PRODID:- PBCS IT-News //NONSGML Events //EN
CALSCALE:GREGORIAN
X-WR-CALNAME:ICAL-BLOG
BEGIN:VEVENT
UID:75bdabe0-ec91-4733-aa94-8b9319f3bab2
DTSTAMP:20260425T122020Z
CREATED:20260425T122020Z
SUMMARY:Quizfrage 7249
DESCRIPTION:https://wp.pbcs.de/question/quizfrage-7249/ - Artikel vom: Mo.\, 29. September 2025\, 19:11:39 - Welches Gebirge beherbergt den Kilimandscharo?
LOCATION:https://wp.pbcs.de
CATEGORIES:Gelbe Kategorie
TRANSP:TRANSPARENT
X-MICROSOFT-CDO-BUSYSTATUS:FREE
SEQUENCE:0
CLASS:PUBLIC
PRIORITY:1
DTSTART:20260426T070000Z
DTEND:20260426T080000Z
BEGIN:VALARM
TRIGGER:-PT30M
ACTION:DISPLAY
DESCRIPTION:Reminder for Quizfrage 7249
END:VALARM
END:VEVENT
END:VCALENDAR
