BEGIN:VCALENDAR
VERSION:2.0
METHOD:PUBLISH
PRODID:- PBCS IT-News //NONSGML Events //EN
CALSCALE:GREGORIAN
X-WR-CALNAME:ICAL-BLOG
BEGIN:VEVENT
UID:5be16781-4e8c-4191-81aa-15f33fa78fe2
DTSTAMP:20260423T083527Z
CREATED:20260423T083527Z
SUMMARY:Quizfrage 7249
DESCRIPTION:https://wp.pbcs.de/question/quizfrage-7249/ - Artikel vom: Mo.\, 29. September 2025\, 19:11:39 - Welches Gebirge beherbergt den Kilimandscharo?
LOCATION:https://wp.pbcs.de
CATEGORIES:Gelbe Kategorie
TRANSP:TRANSPARENT
X-MICROSOFT-CDO-BUSYSTATUS:FREE
SEQUENCE:0
CLASS:PUBLIC
PRIORITY:1
DTSTART:20260423T070000Z
DTEND:20260423T080000Z
BEGIN:VALARM
TRIGGER:-PT30M
ACTION:DISPLAY
DESCRIPTION:Reminder for Quizfrage 7249
END:VALARM
END:VEVENT
END:VCALENDAR
