BEGIN:VCALENDAR
VERSION:2.0
METHOD:PUBLISH
PRODID:- PBCS IT-News //NONSGML Events //EN
CALSCALE:GREGORIAN
X-WR-CALNAME:ICAL-BLOG
BEGIN:VEVENT
UID:593378dd-f0d8-4616-b11e-822562ee2c54
DTSTAMP:20260419T145323Z
CREATED:20260419T145323Z
SUMMARY:Quizfrage 7236
DESCRIPTION:https://wp.pbcs.de/question/quizfrage-7236/ - Artikel vom: Mo.\, 29. September 2025\, 19:11:39 - Wie heißt die bekannte Tempelstadt in Kambodscha?
LOCATION:https://wp.pbcs.de
CATEGORIES:Gelbe Kategorie
TRANSP:TRANSPARENT
X-MICROSOFT-CDO-BUSYSTATUS:FREE
SEQUENCE:0
CLASS:PUBLIC
PRIORITY:1
DTSTART:20260416T070000Z
DTEND:20260416T080000Z
BEGIN:VALARM
TRIGGER:-PT30M
ACTION:DISPLAY
DESCRIPTION:Reminder for Quizfrage 7236
END:VALARM
END:VEVENT
END:VCALENDAR
