BEGIN:VCALENDAR
VERSION:2.0
METHOD:PUBLISH
PRODID:- PBCS IT-News //NONSGML Events //EN
CALSCALE:GREGORIAN
X-WR-CALNAME:ICAL-BLOG
BEGIN:VEVENT
UID:38a137a5-7137-4a94-a4da-e082b25cad55
DTSTAMP:20260423T233329Z
CREATED:20260423T233329Z
SUMMARY:Quizfrage 7231
DESCRIPTION:https://wp.pbcs.de/question/quizfrage-7231/ - Artikel vom: Mo.\, 29. September 2025\, 19:11:38 - Welche Inselgruppe liegt noerdlich von Schottland und gehoert zu Grossbritannien?
LOCATION:https://wp.pbcs.de
CATEGORIES:Gelbe Kategorie
TRANSP:TRANSPARENT
X-MICROSOFT-CDO-BUSYSTATUS:FREE
SEQUENCE:0
CLASS:PUBLIC
PRIORITY:1
DTSTART:20260424T070000Z
DTEND:20260424T080000Z
BEGIN:VALARM
TRIGGER:-PT30M
ACTION:DISPLAY
DESCRIPTION:Reminder for Quizfrage 7231
END:VALARM
END:VEVENT
END:VCALENDAR
