BEGIN:VCALENDAR
VERSION:2.0
METHOD:PUBLISH
PRODID:- PBCS IT-News //NONSGML Events //EN
CALSCALE:GREGORIAN
X-WR-CALNAME:ICAL-BLOG
BEGIN:VEVENT
UID:b085ab23-eed3-4808-a2f8-dcd02fcd4628
DTSTAMP:20260425T151147Z
CREATED:20260425T151147Z
SUMMARY:Quizfrage 7226
DESCRIPTION:https://wp.pbcs.de/question/quizfrage-7226/ - Artikel vom: Mo.\, 29. September 2025\, 19:11:38 - Welcher See ist der tiefste Süßwassersee der Welt?
LOCATION:https://wp.pbcs.de
CATEGORIES:Gelbe Kategorie
TRANSP:TRANSPARENT
X-MICROSOFT-CDO-BUSYSTATUS:FREE
SEQUENCE:0
CLASS:PUBLIC
PRIORITY:1
DTSTART:20260426T070000Z
DTEND:20260426T080000Z
BEGIN:VALARM
TRIGGER:-PT30M
ACTION:DISPLAY
DESCRIPTION:Reminder for Quizfrage 7226
END:VALARM
END:VEVENT
END:VCALENDAR
