BEGIN:VCALENDAR
VERSION:2.0
METHOD:PUBLISH
PRODID:- PBCS IT-News //NONSGML Events //EN
CALSCALE:GREGORIAN
X-WR-CALNAME:ICAL-BLOG
BEGIN:VEVENT
UID:38130d45-02d8-4fbd-807a-95626c75ff2c
DTSTAMP:20260423T212746Z
CREATED:20260423T212746Z
SUMMARY:Quizfrage 7223
DESCRIPTION:https://wp.pbcs.de/question/quizfrage-7223/ - Artikel vom: Mo.\, 29. September 2025\, 19:11:38 - Welcher Berg gilt als heiliger Gipfel Tibets und wird nicht bestiegen?
LOCATION:https://wp.pbcs.de
CATEGORIES:Gelbe Kategorie
TRANSP:TRANSPARENT
X-MICROSOFT-CDO-BUSYSTATUS:FREE
SEQUENCE:0
CLASS:PUBLIC
PRIORITY:1
DTSTART:20260424T070000Z
DTEND:20260424T080000Z
BEGIN:VALARM
TRIGGER:-PT30M
ACTION:DISPLAY
DESCRIPTION:Reminder for Quizfrage 7223
END:VALARM
END:VEVENT
END:VCALENDAR
