BEGIN:VCALENDAR
VERSION:2.0
METHOD:PUBLISH
PRODID:- PBCS IT-News //NONSGML Events //EN
CALSCALE:GREGORIAN
X-WR-CALNAME:ICAL-BLOG
BEGIN:VEVENT
UID:f3bcf326-89e7-4426-9c88-5b63c4470929
DTSTAMP:20260424T165158Z
CREATED:20260424T165158Z
SUMMARY:Quizfrage 7201
DESCRIPTION:https://wp.pbcs.de/question/quizfrage-7201/ - Artikel vom: Mo.\, 29. September 2025\, 19:11:36 - IaaS oder On-Prem: Wo kann ich den Gesundheitzustand meines SQL-Servers einsehen?
LOCATION:https://wp.pbcs.de
CATEGORIES:Gelbe Kategorie
TRANSP:TRANSPARENT
X-MICROSOFT-CDO-BUSYSTATUS:FREE
SEQUENCE:0
CLASS:PUBLIC
PRIORITY:1
DTSTART:20260425T070000Z
DTEND:20260425T080000Z
BEGIN:VALARM
TRIGGER:-PT30M
ACTION:DISPLAY
DESCRIPTION:Reminder for Quizfrage 7201
END:VALARM
END:VEVENT
END:VCALENDAR
