BEGIN:VCALENDAR
VERSION:2.0
METHOD:PUBLISH
PRODID:- PBCS IT-News //NONSGML Events //EN
CALSCALE:GREGORIAN
X-WR-CALNAME:ICAL-BLOG
BEGIN:VEVENT
UID:90f6953e-de14-4a21-ad2e-ee06208c79fa
DTSTAMP:20260424T183004Z
CREATED:20260424T183004Z
SUMMARY:Quizfrage 7194
DESCRIPTION:https://wp.pbcs.de/question/quizfrage-7194/ - Artikel vom: Mo.\, 29. September 2025\, 19:11:36 - Eine von der GWS eingerichtete SQL-Datenbank mit gevis besteht immer und mindestens aus folgenden Teilen:
LOCATION:https://wp.pbcs.de
CATEGORIES:Gelbe Kategorie
TRANSP:TRANSPARENT
X-MICROSOFT-CDO-BUSYSTATUS:FREE
SEQUENCE:0
CLASS:PUBLIC
PRIORITY:1
DTSTART:20260425T070000Z
DTEND:20260425T080000Z
BEGIN:VALARM
TRIGGER:-PT30M
ACTION:DISPLAY
DESCRIPTION:Reminder for Quizfrage 7194
END:VALARM
END:VEVENT
END:VCALENDAR
