BEGIN:VCALENDAR
VERSION:2.0
METHOD:PUBLISH
PRODID:- PBCS IT-News //NONSGML Events //EN
CALSCALE:GREGORIAN
X-WR-CALNAME:ICAL-BLOG
BEGIN:VEVENT
UID:b1f2e393-daf9-4c5f-a0a7-3cd0ab7bce4f
DTSTAMP:20260424T100215Z
CREATED:20260424T100215Z
SUMMARY:Quizfrage 7193
DESCRIPTION:https://wp.pbcs.de/question/quizfrage-7193/ - Artikel vom: Mo.\, 29. September 2025\, 19:11:36 - Welche SQL-Server können mit einer gevis ERP BC Produktivdatenbank der aktuellen Version verwendet werden?
LOCATION:https://wp.pbcs.de
CATEGORIES:Gelbe Kategorie
TRANSP:TRANSPARENT
X-MICROSOFT-CDO-BUSYSTATUS:FREE
SEQUENCE:0
CLASS:PUBLIC
PRIORITY:1
DTSTART:20260425T070000Z
DTEND:20260425T080000Z
BEGIN:VALARM
TRIGGER:-PT30M
ACTION:DISPLAY
DESCRIPTION:Reminder for Quizfrage 7193
END:VALARM
END:VEVENT
END:VCALENDAR
