BEGIN:VCALENDAR
VERSION:2.0
METHOD:PUBLISH
PRODID:- PBCS IT-News //NONSGML Events //EN
CALSCALE:GREGORIAN
X-WR-CALNAME:ICAL-BLOG
BEGIN:VEVENT
UID:ad6fe993-f379-4100-b20d-1e1944017b12
DTSTAMP:20260424T033156Z
CREATED:20260424T033156Z
SUMMARY:Quizfrage 7192
DESCRIPTION:https://wp.pbcs.de/question/quizfrage-7192/ - Artikel vom: Mo.\, 29. September 2025\, 19:11:36 - Mit welchen Datenbanken kann das ECM (s.dok) Archiv ab Version 8.50 umgehen?
LOCATION:https://wp.pbcs.de
CATEGORIES:Gelbe Kategorie
TRANSP:TRANSPARENT
X-MICROSOFT-CDO-BUSYSTATUS:FREE
SEQUENCE:0
CLASS:PUBLIC
PRIORITY:1
DTSTART:20260424T070000Z
DTEND:20260424T080000Z
BEGIN:VALARM
TRIGGER:-PT30M
ACTION:DISPLAY
DESCRIPTION:Reminder for Quizfrage 7192
END:VALARM
END:VEVENT
END:VCALENDAR
