BEGIN:VCALENDAR
VERSION:2.0
METHOD:PUBLISH
PRODID:- PBCS IT-News //NONSGML Events //EN
CALSCALE:GREGORIAN
X-WR-CALNAME:ICAL-BLOG
BEGIN:VEVENT
UID:61e2d6cd-bfe8-4741-9519-1d501cef2323
DTSTAMP:20260423T231457Z
CREATED:20260423T231457Z
SUMMARY:Quizfrage 7166
DESCRIPTION:https://wp.pbcs.de/question/quizfrage-7166/ - Artikel vom: Mo.\, 29. September 2025\, 19:11:34 - Ich möchte die Konsole vom Server von meinem PC aus übernehmen und fernsteuern. Was mache ich?
LOCATION:https://wp.pbcs.de
CATEGORIES:Gelbe Kategorie
TRANSP:TRANSPARENT
X-MICROSOFT-CDO-BUSYSTATUS:FREE
SEQUENCE:0
CLASS:PUBLIC
PRIORITY:1
DTSTART:20260424T070000Z
DTEND:20260424T080000Z
BEGIN:VALARM
TRIGGER:-PT30M
ACTION:DISPLAY
DESCRIPTION:Reminder for Quizfrage 7166
END:VALARM
END:VEVENT
END:VCALENDAR
