BEGIN:VCALENDAR
VERSION:2.0
METHOD:PUBLISH
PRODID:- PBCS IT-News //NONSGML Events //EN
CALSCALE:GREGORIAN
X-WR-CALNAME:ICAL-BLOG
BEGIN:VEVENT
UID:c86f7b63-702b-4be0-9e68-d3bac5deb645
DTSTAMP:20260424T165410Z
CREATED:20260424T165410Z
SUMMARY:Quizfrage 7165
DESCRIPTION:https://wp.pbcs.de/question/quizfrage-7165/ - Artikel vom: Mo.\, 29. September 2025\, 19:11:34 - Ich setze -USER01- und das richtige Kennwort in den Anmeldedialog\, möchte mich an der Domäne anmelden\, Fehler erscheint. Welche Ursachen sind korrekt?
LOCATION:https://wp.pbcs.de
CATEGORIES:Gelbe Kategorie
TRANSP:TRANSPARENT
X-MICROSOFT-CDO-BUSYSTATUS:FREE
SEQUENCE:0
CLASS:PUBLIC
PRIORITY:1
DTSTART:20260425T070000Z
DTEND:20260425T080000Z
BEGIN:VALARM
TRIGGER:-PT30M
ACTION:DISPLAY
DESCRIPTION:Reminder for Quizfrage 7165
END:VALARM
END:VEVENT
END:VCALENDAR
