BEGIN:VCALENDAR
VERSION:2.0
METHOD:PUBLISH
PRODID:- PBCS IT-News //NONSGML Events //EN
CALSCALE:GREGORIAN
X-WR-CALNAME:ICAL-BLOG
BEGIN:VEVENT
UID:be983738-9366-4b45-8e62-d9fa50939b65
DTSTAMP:20260424T073047Z
CREATED:20260424T073047Z
SUMMARY:Quizfrage 7162
DESCRIPTION:https://wp.pbcs.de/question/quizfrage-7162/ - Artikel vom: Mo.\, 29. September 2025\, 19:11:34 - TCP/IP: Mit welchem Befehl können Sie abfragen\, ob der PC 10.10.10.56 antwortet?
LOCATION:https://wp.pbcs.de
CATEGORIES:Gelbe Kategorie
TRANSP:TRANSPARENT
X-MICROSOFT-CDO-BUSYSTATUS:FREE
SEQUENCE:0
CLASS:PUBLIC
PRIORITY:1
DTSTART:20260424T070000Z
DTEND:20260424T080000Z
BEGIN:VALARM
TRIGGER:-PT30M
ACTION:DISPLAY
DESCRIPTION:Reminder for Quizfrage 7162
END:VALARM
END:VEVENT
END:VCALENDAR
