BEGIN:VCALENDAR
VERSION:2.0
METHOD:PUBLISH
PRODID:- PBCS IT-News //NONSGML Events //EN
CALSCALE:GREGORIAN
X-WR-CALNAME:ICAL-BLOG
BEGIN:VEVENT
UID:b12c4d51-3a26-498d-9190-863596667f13
DTSTAMP:20260420T131515Z
CREATED:20260420T131515Z
SUMMARY:Quizfrage 7153
DESCRIPTION:https://wp.pbcs.de/question/quizfrage-7153/ - Artikel vom: Mo.\, 29. September 2025\, 19:11:34 - Was unterscheidet eine Next Generation Firewall von der klassischen Variante?
LOCATION:https://wp.pbcs.de
CATEGORIES:Gelbe Kategorie
TRANSP:TRANSPARENT
X-MICROSOFT-CDO-BUSYSTATUS:FREE
SEQUENCE:0
CLASS:PUBLIC
PRIORITY:1
DTSTART:20260421T070000Z
DTEND:20260421T080000Z
BEGIN:VALARM
TRIGGER:-PT30M
ACTION:DISPLAY
DESCRIPTION:Reminder for Quizfrage 7153
END:VALARM
END:VEVENT
END:VCALENDAR
