BEGIN:VCALENDAR
VERSION:2.0
METHOD:PUBLISH
PRODID:- PBCS IT-News //NONSGML Events //EN
CALSCALE:GREGORIAN
X-WR-CALNAME:ICAL-BLOG
BEGIN:VEVENT
UID:03923e70-40ff-4e69-bd3c-7c87c475f111
DTSTAMP:20260425T131135Z
CREATED:20260425T131135Z
SUMMARY:Quizfrage 6979
DESCRIPTION:https://wp.pbcs.de/question/quizfrage-6979/ - Artikel vom: Mo.\, 29. September 2025\, 19:11:32 - Welches Wort ist ein Palindrom?
LOCATION:https://wp.pbcs.de
CATEGORIES:Gelbe Kategorie
TRANSP:TRANSPARENT
X-MICROSOFT-CDO-BUSYSTATUS:FREE
SEQUENCE:0
CLASS:PUBLIC
PRIORITY:1
DTSTART:20260426T070000Z
DTEND:20260426T080000Z
BEGIN:VALARM
TRIGGER:-PT30M
ACTION:DISPLAY
DESCRIPTION:Reminder for Quizfrage 6979
END:VALARM
END:VEVENT
END:VCALENDAR
