BEGIN:VCALENDAR
VERSION:2.0
METHOD:PUBLISH
PRODID:- PBCS IT-News //NONSGML Events //EN
CALSCALE:GREGORIAN
X-WR-CALNAME:ICAL-BLOG
BEGIN:VEVENT
UID:f580dcb6-6ef2-4334-be81-b6ea21664c96
DTSTAMP:20260422T171303Z
CREATED:20260422T171303Z
SUMMARY:Quizfrage 6967
DESCRIPTION:https://wp.pbcs.de/question/quizfrage-6967/ - Artikel vom: Mo.\, 29. September 2025\, 19:11:32 - Welcher Hit von Pharrell Williams war 2014 in fast allen Ländern auf Platz 1?
LOCATION:https://wp.pbcs.de
CATEGORIES:Gelbe Kategorie
TRANSP:TRANSPARENT
X-MICROSOFT-CDO-BUSYSTATUS:FREE
SEQUENCE:0
CLASS:PUBLIC
PRIORITY:1
DTSTART:20260423T070000Z
DTEND:20260423T080000Z
BEGIN:VALARM
TRIGGER:-PT30M
ACTION:DISPLAY
DESCRIPTION:Reminder for Quizfrage 6967
END:VALARM
END:VEVENT
END:VCALENDAR
