BEGIN:VCALENDAR
VERSION:2.0
METHOD:PUBLISH
PRODID:- PBCS IT-News //NONSGML Events //EN
CALSCALE:GREGORIAN
X-WR-CALNAME:ICAL-BLOG
BEGIN:VEVENT
UID:22e75f66-dd11-4ac4-ad30-e0a27d6a5e49
DTSTAMP:20260419T181037Z
CREATED:20260419T181037Z
SUMMARY:Quizfrage 6353
DESCRIPTION:https://wp.pbcs.de/question/quizfrage-6353/ - Artikel vom: Mo.\, 29. September 2025\, 19:11:30 - Was kann Gemini besonders gut?
LOCATION:https://wp.pbcs.de
CATEGORIES:Gelbe Kategorie
TRANSP:TRANSPARENT
X-MICROSOFT-CDO-BUSYSTATUS:FREE
SEQUENCE:0
CLASS:PUBLIC
PRIORITY:1
DTSTART:20260420T070000Z
DTEND:20260420T080000Z
BEGIN:VALARM
TRIGGER:-PT30M
ACTION:DISPLAY
DESCRIPTION:Reminder for Quizfrage 6353
END:VALARM
END:VEVENT
END:VCALENDAR
