BEGIN:VCALENDAR
VERSION:2.0
METHOD:PUBLISH
PRODID:- PBCS IT-News //NONSGML Events //EN
CALSCALE:GREGORIAN
X-WR-CALNAME:ICAL-BLOG
BEGIN:VEVENT
UID:8a8d1eb9-6dbb-40cf-9201-17488cafc9ab
DTSTAMP:20260419T180905Z
CREATED:20260419T180905Z
SUMMARY:Quizfrage 6352
DESCRIPTION:https://wp.pbcs.de/question/quizfrage-6352/ - Artikel vom: Mo.\, 29. September 2025\, 19:11:30 - Wie heißt die Bezahlversion von ChatGPT?
LOCATION:https://wp.pbcs.de
CATEGORIES:Gelbe Kategorie
TRANSP:TRANSPARENT
X-MICROSOFT-CDO-BUSYSTATUS:FREE
SEQUENCE:0
CLASS:PUBLIC
PRIORITY:1
DTSTART:20260420T070000Z
DTEND:20260420T080000Z
BEGIN:VALARM
TRIGGER:-PT30M
ACTION:DISPLAY
DESCRIPTION:Reminder for Quizfrage 6352
END:VALARM
END:VEVENT
END:VCALENDAR
