BEGIN:VCALENDAR
VERSION:2.0
METHOD:PUBLISH
PRODID:- PBCS IT-News //NONSGML Events //EN
CALSCALE:GREGORIAN
X-WR-CALNAME:ICAL-BLOG
BEGIN:VEVENT
UID:2b1c4af3-cbdb-4c79-bcef-1a5ebc14cd8d
DTSTAMP:20260419T150753Z
CREATED:20260419T150753Z
SUMMARY:Quizfrage 6352
DESCRIPTION:https://wp.pbcs.de/question/quizfrage-6352/ - Artikel vom: Mo.\, 29. September 2025\, 19:11:30 - Wie heißt die Bezahlversion von ChatGPT?
LOCATION:https://wp.pbcs.de
CATEGORIES:Gelbe Kategorie
TRANSP:TRANSPARENT
X-MICROSOFT-CDO-BUSYSTATUS:FREE
SEQUENCE:0
CLASS:PUBLIC
PRIORITY:1
DTSTART:20260418T070000Z
DTEND:20260418T080000Z
BEGIN:VALARM
TRIGGER:-PT30M
ACTION:DISPLAY
DESCRIPTION:Reminder for Quizfrage 6352
END:VALARM
END:VEVENT
END:VCALENDAR
