BEGIN:VCALENDAR
VERSION:2.0
METHOD:PUBLISH
PRODID:- PBCS IT-News //NONSGML Events //EN
CALSCALE:GREGORIAN
X-WR-CALNAME:ICAL-BLOG
BEGIN:VEVENT
UID:8a837663-f5ba-49c4-a10c-d6f8c471d574
DTSTAMP:20260424T183934Z
CREATED:20260424T183934Z
SUMMARY:Quizfrage 6317
DESCRIPTION:https://wp.pbcs.de/question/quizfrage-6317/ - Artikel vom: Mo.\, 29. September 2025\, 19:11:28 - Welche Rolle spielt die KI-Transparenz für die Nutzer?
LOCATION:https://wp.pbcs.de
CATEGORIES:Gelbe Kategorie
TRANSP:TRANSPARENT
X-MICROSOFT-CDO-BUSYSTATUS:FREE
SEQUENCE:0
CLASS:PUBLIC
PRIORITY:1
DTSTART:20260425T070000Z
DTEND:20260425T080000Z
BEGIN:VALARM
TRIGGER:-PT30M
ACTION:DISPLAY
DESCRIPTION:Reminder for Quizfrage 6317
END:VALARM
END:VEVENT
END:VCALENDAR
