BEGIN:VCALENDAR
VERSION:2.0
METHOD:PUBLISH
PRODID:- PBCS IT-News //NONSGML Events //EN
CALSCALE:GREGORIAN
X-WR-CALNAME:ICAL-BLOG
BEGIN:VEVENT
UID:521588e4-a785-4785-9bab-9dcc79604dc5
DTSTAMP:20260424T114224Z
CREATED:20260424T114224Z
SUMMARY:Quizfrage 6316
DESCRIPTION:https://wp.pbcs.de/question/quizfrage-6316/ - Artikel vom: Mo.\, 29. September 2025\, 19:11:28 - Was bedeutet der Begriff Hochrisiko im KI-Act?
LOCATION:https://wp.pbcs.de
CATEGORIES:Gelbe Kategorie
TRANSP:TRANSPARENT
X-MICROSOFT-CDO-BUSYSTATUS:FREE
SEQUENCE:0
CLASS:PUBLIC
PRIORITY:1
DTSTART:20260425T070000Z
DTEND:20260425T080000Z
BEGIN:VALARM
TRIGGER:-PT30M
ACTION:DISPLAY
DESCRIPTION:Reminder for Quizfrage 6316
END:VALARM
END:VEVENT
END:VCALENDAR
