BEGIN:VCALENDAR
VERSION:2.0
METHOD:PUBLISH
PRODID:- PBCS IT-News //NONSGML Events //EN
CALSCALE:GREGORIAN
X-WR-CALNAME:ICAL-BLOG
BEGIN:VEVENT
UID:84911f1b-4dfb-4255-82db-497e07cf9cbb
DTSTAMP:20260424T125834Z
CREATED:20260424T125834Z
SUMMARY:Quizfrage 6313
DESCRIPTION:https://wp.pbcs.de/question/quizfrage-6313/ - Artikel vom: Mo.\, 29. September 2025\, 19:11:28 - Was passiert\, wenn ein Unternehmen gegen die Bestimmungen des KI-Acts verstößt?
LOCATION:https://wp.pbcs.de
CATEGORIES:Gelbe Kategorie
TRANSP:TRANSPARENT
X-MICROSOFT-CDO-BUSYSTATUS:FREE
SEQUENCE:0
CLASS:PUBLIC
PRIORITY:1
DTSTART:20260421T070000Z
DTEND:20260421T080000Z
BEGIN:VALARM
TRIGGER:-PT30M
ACTION:DISPLAY
DESCRIPTION:Reminder for Quizfrage 6313
END:VALARM
END:VEVENT
END:VCALENDAR
