BEGIN:VCALENDAR
VERSION:2.0
METHOD:PUBLISH
PRODID:- PBCS IT-News //NONSGML Events //EN
CALSCALE:GREGORIAN
X-WR-CALNAME:ICAL-BLOG
BEGIN:VEVENT
UID:2dfd1732-d1c9-4215-acdf-c6b57375add3
DTSTAMP:20260420T130711Z
CREATED:20260420T130711Z
SUMMARY:Quizfrage 6305
DESCRIPTION:https://wp.pbcs.de/question/quizfrage-6305/ - Artikel vom: Mo.\, 29. September 2025\, 19:11:28 - Wer ist verantwortlich für die Überwachung der Einhaltung des KI-Acts?
LOCATION:https://wp.pbcs.de
CATEGORIES:Gelbe Kategorie
TRANSP:TRANSPARENT
X-MICROSOFT-CDO-BUSYSTATUS:FREE
SEQUENCE:0
CLASS:PUBLIC
PRIORITY:1
DTSTART:20260421T070000Z
DTEND:20260421T080000Z
BEGIN:VALARM
TRIGGER:-PT30M
ACTION:DISPLAY
DESCRIPTION:Reminder for Quizfrage 6305
END:VALARM
END:VEVENT
END:VCALENDAR
