BEGIN:VCALENDAR
VERSION:2.0
METHOD:PUBLISH
PRODID:- PBCS IT-News //NONSGML Events //EN
CALSCALE:GREGORIAN
X-WR-CALNAME:ICAL-BLOG
BEGIN:VEVENT
UID:2a00f9bb-0605-44ce-823c-a2bd2c574c85
DTSTAMP:20260422T230533Z
CREATED:20260422T230533Z
SUMMARY:Quizfrage 6292
DESCRIPTION:https://wp.pbcs.de/question/quizfrage-6292/ - Artikel vom: Mo.\, 29. September 2025\, 19:11:27 - Wie können Mitarbeitende sicherstellen\, dass KI-Entscheidungen nachvollziehbar sind?
LOCATION:https://wp.pbcs.de
CATEGORIES:Gelbe Kategorie
TRANSP:TRANSPARENT
X-MICROSOFT-CDO-BUSYSTATUS:FREE
SEQUENCE:0
CLASS:PUBLIC
PRIORITY:1
DTSTART:20260423T070000Z
DTEND:20260423T080000Z
BEGIN:VALARM
TRIGGER:-PT30M
ACTION:DISPLAY
DESCRIPTION:Reminder for Quizfrage 6292
END:VALARM
END:VEVENT
END:VCALENDAR
