BEGIN:VCALENDAR
VERSION:2.0
METHOD:PUBLISH
PRODID:- PBCS IT-News //NONSGML Events //EN
CALSCALE:GREGORIAN
X-WR-CALNAME:ICAL-BLOG
BEGIN:VEVENT
UID:446d7c6e-1139-4232-937a-92720b52a2f0
DTSTAMP:20260424T184248Z
CREATED:20260424T184248Z
SUMMARY:Quizfrage 6287
DESCRIPTION:https://wp.pbcs.de/question/quizfrage-6287/ - Artikel vom: Mo.\, 29. September 2025\, 19:11:26 - Wie können Mitarbeitende im Einklang mit dem KI-Act sicherstellen\, dass sie keine Diskriminierung durch KI fördern?
LOCATION:https://wp.pbcs.de
CATEGORIES:Gelbe Kategorie
TRANSP:TRANSPARENT
X-MICROSOFT-CDO-BUSYSTATUS:FREE
SEQUENCE:0
CLASS:PUBLIC
PRIORITY:1
DTSTART:20260425T070000Z
DTEND:20260425T080000Z
BEGIN:VALARM
TRIGGER:-PT30M
ACTION:DISPLAY
DESCRIPTION:Reminder for Quizfrage 6287
END:VALARM
END:VEVENT
END:VCALENDAR
