BEGIN:VCALENDAR
VERSION:2.0
METHOD:PUBLISH
PRODID:- PBCS IT-News //NONSGML Events //EN
CALSCALE:GREGORIAN
X-WR-CALNAME:ICAL-BLOG
BEGIN:VEVENT
UID:f9398e11-71f1-489a-bd30-2d249ce79294
DTSTAMP:20260420T135042Z
CREATED:20260420T135042Z
SUMMARY:Quizfrage 5588
DESCRIPTION:https://wp.pbcs.de/question/quizfrage-5588/ - Artikel vom: Mo.\, 29. September 2025\, 19:11:24 - Wie verhalten Sie sich bei einer blinkenden Ampel?
LOCATION:https://wp.pbcs.de
CATEGORIES:Gelbe Kategorie
TRANSP:TRANSPARENT
X-MICROSOFT-CDO-BUSYSTATUS:FREE
SEQUENCE:0
CLASS:PUBLIC
PRIORITY:1
DTSTART:20260419T070000Z
DTEND:20260419T080000Z
BEGIN:VALARM
TRIGGER:-PT30M
ACTION:DISPLAY
DESCRIPTION:Reminder for Quizfrage 5588
END:VALARM
END:VEVENT
END:VCALENDAR
