BEGIN:VCALENDAR
VERSION:2.0
METHOD:PUBLISH
PRODID:- PBCS IT-News //NONSGML Events //EN
CALSCALE:GREGORIAN
X-WR-CALNAME:ICAL-BLOG
BEGIN:VEVENT
UID:ef7ff073-92db-4a14-98fd-029be1b082f4
DTSTAMP:20260419T143226Z
CREATED:20260419T143226Z
SUMMARY:Quizfrage 5554
DESCRIPTION:https://wp.pbcs.de/question/quizfrage-5554/ - Artikel vom: Mo.\, 29. September 2025\, 19:11:21 - Was ist bei einer Nachtfahrt besonders zu beachten?
LOCATION:https://wp.pbcs.de
CATEGORIES:Gelbe Kategorie
TRANSP:TRANSPARENT
X-MICROSOFT-CDO-BUSYSTATUS:FREE
SEQUENCE:0
CLASS:PUBLIC
PRIORITY:1
DTSTART:20260313T080000Z
DTEND:20260313T090000Z
BEGIN:VALARM
TRIGGER:-PT30M
ACTION:DISPLAY
DESCRIPTION:Reminder for Quizfrage 5554
END:VALARM
END:VEVENT
END:VCALENDAR
