BEGIN:VCALENDAR
VERSION:2.0
METHOD:PUBLISH
PRODID:- PBCS IT-News //NONSGML Events //EN
CALSCALE:GREGORIAN
X-WR-CALNAME:ICAL-BLOG
BEGIN:VEVENT
UID:9867cc74-f90e-4b4e-a3ab-3e5aed29ee39
DTSTAMP:20260424T125702Z
CREATED:20260424T125702Z
SUMMARY:Quizfrage 5546
DESCRIPTION:https://wp.pbcs.de/question/quizfrage-5546/ - Artikel vom: Mo.\, 29. September 2025\, 19:11:21 - Wann dürfen Sie in einer Umweltzone fahren?
LOCATION:https://wp.pbcs.de
CATEGORIES:Gelbe Kategorie
TRANSP:TRANSPARENT
X-MICROSOFT-CDO-BUSYSTATUS:FREE
SEQUENCE:0
CLASS:PUBLIC
PRIORITY:1
DTSTART:20260421T070000Z
DTEND:20260421T080000Z
BEGIN:VALARM
TRIGGER:-PT30M
ACTION:DISPLAY
DESCRIPTION:Reminder for Quizfrage 5546
END:VALARM
END:VEVENT
END:VCALENDAR
