BEGIN:VCALENDAR
VERSION:2.0
METHOD:PUBLISH
PRODID:- PBCS IT-News //NONSGML Events //EN
CALSCALE:GREGORIAN
X-WR-CALNAME:ICAL-BLOG
BEGIN:VEVENT
UID:36cabf30-96e0-4a9f-8672-1b6fced2b0b0
DTSTAMP:20260420T135819Z
CREATED:20260420T135819Z
SUMMARY:Quizfrage 5528
DESCRIPTION:https://wp.pbcs.de/question/quizfrage-5528/ - Artikel vom: Mo.\, 29. September 2025\, 19:11:19 - Was müssen Sie tun- wenn Sie einen Notarztwagen hören?
LOCATION:https://wp.pbcs.de
CATEGORIES:Gelbe Kategorie
TRANSP:TRANSPARENT
X-MICROSOFT-CDO-BUSYSTATUS:FREE
SEQUENCE:0
CLASS:PUBLIC
PRIORITY:1
DTSTART:20260307T080000Z
DTEND:20260307T090000Z
BEGIN:VALARM
TRIGGER:-PT30M
ACTION:DISPLAY
DESCRIPTION:Reminder for Quizfrage 5528
END:VALARM
END:VEVENT
END:VCALENDAR
