BEGIN:VCALENDAR
VERSION:2.0
METHOD:PUBLISH
PRODID:- PBCS IT-News //NONSGML Events //EN
CALSCALE:GREGORIAN
X-WR-CALNAME:ICAL-BLOG
BEGIN:VEVENT
UID:65468b55-2ac4-43d1-a9cb-b99e48c767d8
DTSTAMP:20260420T130811Z
CREATED:20260420T130811Z
SUMMARY:Quizfrage 5511
DESCRIPTION:https://wp.pbcs.de/question/quizfrage-5511/ - Artikel vom: Mo.\, 29. September 2025\, 19:11:17 - Welche Vorschrift gilt bei einer abknickenden Vorfahrtstraße?
LOCATION:https://wp.pbcs.de
CATEGORIES:Gelbe Kategorie
TRANSP:TRANSPARENT
X-MICROSOFT-CDO-BUSYSTATUS:FREE
SEQUENCE:0
CLASS:PUBLIC
PRIORITY:1
DTSTART:20260421T070000Z
DTEND:20260421T080000Z
BEGIN:VALARM
TRIGGER:-PT30M
ACTION:DISPLAY
DESCRIPTION:Reminder for Quizfrage 5511
END:VALARM
END:VEVENT
END:VCALENDAR
