BEGIN:VCALENDAR
VERSION:2.0
METHOD:PUBLISH
PRODID:- PBCS IT-News //NONSGML Events //EN
CALSCALE:GREGORIAN
X-WR-CALNAME:ICAL-BLOG
BEGIN:VEVENT
UID:eafb9d4e-cbb5-414c-9ab8-088fa25a377b
DTSTAMP:20260419T130919Z
CREATED:20260419T130919Z
SUMMARY:Quizfrage 5497
DESCRIPTION:https://wp.pbcs.de/question/quizfrage-5497/ - Artikel vom: Mo.\, 29. September 2025\, 19:11:16 - Was müssen Sie tun- wenn die Polizei Sie anhalten will?
LOCATION:https://wp.pbcs.de
CATEGORIES:Gelbe Kategorie
TRANSP:TRANSPARENT
X-MICROSOFT-CDO-BUSYSTATUS:FREE
SEQUENCE:0
CLASS:PUBLIC
PRIORITY:1
DTSTART:20260309T080000Z
DTEND:20260309T090000Z
BEGIN:VALARM
TRIGGER:-PT30M
ACTION:DISPLAY
DESCRIPTION:Reminder for Quizfrage 5497
END:VALARM
END:VEVENT
END:VCALENDAR
