BEGIN:VCALENDAR
VERSION:2.0
METHOD:PUBLISH
PRODID:- PBCS IT-News //NONSGML Events //EN
CALSCALE:GREGORIAN
X-WR-CALNAME:ICAL-BLOG
BEGIN:VEVENT
UID:dce723b9-672e-41d2-85cc-0cba0c581516
DTSTAMP:20260424T235523Z
CREATED:20260424T235523Z
SUMMARY:Quizfrage 5481
DESCRIPTION:https://wp.pbcs.de/question/quizfrage-5481/ - Artikel vom: Mo.\, 29. September 2025\, 19:11:15 - Welches Server-Betriebssystem wird für gevis ERP vorausgesetzt?
LOCATION:https://wp.pbcs.de
CATEGORIES:Gelbe Kategorie
TRANSP:TRANSPARENT
X-MICROSOFT-CDO-BUSYSTATUS:FREE
SEQUENCE:0
CLASS:PUBLIC
PRIORITY:1
DTSTART:20260425T070000Z
DTEND:20260425T080000Z
BEGIN:VALARM
TRIGGER:-PT30M
ACTION:DISPLAY
DESCRIPTION:Reminder for Quizfrage 5481
END:VALARM
END:VEVENT
END:VCALENDAR
