BEGIN:VCALENDAR
VERSION:2.0
METHOD:PUBLISH
PRODID:- PBCS IT-News //NONSGML Events //EN
CALSCALE:GREGORIAN
X-WR-CALNAME:ICAL-BLOG
BEGIN:VEVENT
UID:393e8998-8ede-4b35-a5c7-536e1d466ba3
DTSTAMP:20260424T204611Z
CREATED:20260424T204611Z
SUMMARY:Quizfrage 5475
DESCRIPTION:https://wp.pbcs.de/question/quizfrage-5475/ - Artikel vom: Mo.\, 29. September 2025\, 19:11:14 - Wie kann der Support für gevis ERP kontaktiert werden?
LOCATION:https://wp.pbcs.de
CATEGORIES:Gelbe Kategorie
TRANSP:TRANSPARENT
X-MICROSOFT-CDO-BUSYSTATUS:FREE
SEQUENCE:0
CLASS:PUBLIC
PRIORITY:1
DTSTART:20260425T070000Z
DTEND:20260425T080000Z
BEGIN:VALARM
TRIGGER:-PT30M
ACTION:DISPLAY
DESCRIPTION:Reminder for Quizfrage 5475
END:VALARM
END:VEVENT
END:VCALENDAR
