BEGIN:VCALENDAR
VERSION:2.0
METHOD:PUBLISH
PRODID:- PBCS IT-News //NONSGML Events //EN
CALSCALE:GREGORIAN
X-WR-CALNAME:ICAL-BLOG
BEGIN:VEVENT
UID:b77c799b-ece9-4af9-be84-9432954f9ef5
DTSTAMP:20260419T165551Z
CREATED:20260419T165551Z
SUMMARY:Quizfrage 5454
DESCRIPTION:https://wp.pbcs.de/question/quizfrage-5454/ - Artikel vom: Mo.\, 29. September 2025\, 19:11:13 - Was ist gevis ERP | BC?
LOCATION:https://wp.pbcs.de
CATEGORIES:Gelbe Kategorie
TRANSP:TRANSPARENT
X-MICROSOFT-CDO-BUSYSTATUS:FREE
SEQUENCE:0
CLASS:PUBLIC
PRIORITY:1
DTSTART:20260309T080000Z
DTEND:20260309T090000Z
BEGIN:VALARM
TRIGGER:-PT30M
ACTION:DISPLAY
DESCRIPTION:Reminder for Quizfrage 5454
END:VALARM
END:VEVENT
END:VCALENDAR
