BEGIN:VCALENDAR
VERSION:2.0
METHOD:PUBLISH
PRODID:- PBCS IT-News //NONSGML Events //EN
CALSCALE:GREGORIAN
X-WR-CALNAME:ICAL-BLOG
BEGIN:VEVENT
UID:460db98c-b53f-4448-b060-a9e46fe65993
DTSTAMP:20260419T133623Z
CREATED:20260419T133623Z
SUMMARY:Quizfrage 5313
DESCRIPTION:https://wp.pbcs.de/question/quizfrage-5313/ - Artikel vom: Mo.\, 29. September 2025\, 19:11:10 - Wer waren die Heiligen Drei Könige?
LOCATION:https://wp.pbcs.de
CATEGORIES:Gelbe Kategorie
TRANSP:TRANSPARENT
X-MICROSOFT-CDO-BUSYSTATUS:FREE
SEQUENCE:0
CLASS:PUBLIC
PRIORITY:1
DTSTART:20260307T080000Z
DTEND:20260307T090000Z
BEGIN:VALARM
TRIGGER:-PT30M
ACTION:DISPLAY
DESCRIPTION:Reminder for Quizfrage 5313
END:VALARM
END:VEVENT
END:VCALENDAR
