BEGIN:VCALENDAR
VERSION:2.0
METHOD:PUBLISH
PRODID:- PBCS IT-News //NONSGML Events //EN
CALSCALE:GREGORIAN
X-WR-CALNAME:ICAL-BLOG
BEGIN:VEVENT
UID:32a93a73-9711-4d4d-95f7-ab2f65f9c3ca
DTSTAMP:20260425T133003Z
CREATED:20260425T133003Z
SUMMARY:Quizfrage 5281
DESCRIPTION:https://wp.pbcs.de/question/quizfrage-5281/ - Artikel vom: Mo.\, 29. September 2025\, 19:11:08 - Wie viele Türchen hat ein klassischer Adventskalender?
LOCATION:https://wp.pbcs.de
CATEGORIES:Gelbe Kategorie
TRANSP:TRANSPARENT
X-MICROSOFT-CDO-BUSYSTATUS:FREE
SEQUENCE:0
CLASS:PUBLIC
PRIORITY:1
DTSTART:20260426T070000Z
DTEND:20260426T080000Z
BEGIN:VALARM
TRIGGER:-PT30M
ACTION:DISPLAY
DESCRIPTION:Reminder for Quizfrage 5281
END:VALARM
END:VEVENT
END:VCALENDAR
