BEGIN:VCALENDAR
VERSION:2.0
METHOD:PUBLISH
PRODID:- PBCS IT-News //NONSGML Events //EN
CALSCALE:GREGORIAN
X-WR-CALNAME:ICAL-BLOG
BEGIN:VEVENT
UID:2b8dc06e-4316-489f-a978-c7029908f114
DTSTAMP:20260419T133421Z
CREATED:20260419T133421Z
SUMMARY:Quizfrage 5269
DESCRIPTION:https://wp.pbcs.de/question/quizfrage-5269/ - Artikel vom: Mo.\, 29. September 2025\, 19:11:07 - Welcher Himmelskörper ist dem Zwergplaneten Pluto am nächsten?
LOCATION:https://wp.pbcs.de
CATEGORIES:Gelbe Kategorie
TRANSP:TRANSPARENT
X-MICROSOFT-CDO-BUSYSTATUS:FREE
SEQUENCE:0
CLASS:PUBLIC
PRIORITY:1
DTSTART:20260418T070000Z
DTEND:20260418T080000Z
BEGIN:VALARM
TRIGGER:-PT30M
ACTION:DISPLAY
DESCRIPTION:Reminder for Quizfrage 5269
END:VALARM
END:VEVENT
END:VCALENDAR
