BEGIN:VCALENDAR
VERSION:2.0
METHOD:PUBLISH
PRODID:- PBCS IT-News //NONSGML Events //EN
CALSCALE:GREGORIAN
X-WR-CALNAME:ICAL-BLOG
BEGIN:VEVENT
UID:59411132-4adb-446b-99ed-d8918740851d
DTSTAMP:20260419T165840Z
CREATED:20260419T165840Z
SUMMARY:Quizfrage 5269
DESCRIPTION:https://wp.pbcs.de/question/quizfrage-5269/ - Artikel vom: Mo.\, 29. September 2025\, 19:11:07 - Welcher Himmelskörper ist dem Zwergplaneten Pluto am nächsten?
LOCATION:https://wp.pbcs.de
CATEGORIES:Gelbe Kategorie
TRANSP:TRANSPARENT
X-MICROSOFT-CDO-BUSYSTATUS:FREE
SEQUENCE:0
CLASS:PUBLIC
PRIORITY:1
DTSTART:20260309T080000Z
DTEND:20260309T090000Z
BEGIN:VALARM
TRIGGER:-PT30M
ACTION:DISPLAY
DESCRIPTION:Reminder for Quizfrage 5269
END:VALARM
END:VEVENT
END:VCALENDAR
