BEGIN:VCALENDAR
VERSION:2.0
METHOD:PUBLISH
PRODID:- PBCS IT-News //NONSGML Events //EN
CALSCALE:GREGORIAN
X-WR-CALNAME:ICAL-BLOG
BEGIN:VEVENT
UID:b4bbdd7c-d76e-470c-9386-af1164fc35d2
DTSTAMP:20260419T114057Z
CREATED:20260419T114057Z
SUMMARY:Quizfrage 5264
DESCRIPTION:https://wp.pbcs.de/question/quizfrage-5264/ - Artikel vom: Mo.\, 29. September 2025\, 19:11:07 - Welcher Planet hat die prominentesten Ringe?
LOCATION:https://wp.pbcs.de
CATEGORIES:Gelbe Kategorie
TRANSP:TRANSPARENT
X-MICROSOFT-CDO-BUSYSTATUS:FREE
SEQUENCE:0
CLASS:PUBLIC
PRIORITY:1
DTSTART:20260309T080000Z
DTEND:20260309T090000Z
BEGIN:VALARM
TRIGGER:-PT30M
ACTION:DISPLAY
DESCRIPTION:Reminder for Quizfrage 5264
END:VALARM
END:VEVENT
END:VCALENDAR
